BEGIN:VCALENDAR
VERSION:2.0
PRODID:-//hacksw/handcal//NONSGML v1.0//EN
BEGIN:VEVENT
DTSTART:20231005T173000Z
DTEND:20231005T203000Z
LOCATION:HEC UK House \n43 Parker Street \nWC2B 5PS London
ORGANIZER;CN=Marie Normant - United Kingdom - UK:MAILTO:marie.normant@hecalumni.fr
SUMMARY:Entrepreneurial Showcase: HEC x CENTRALESUPELEC x NYU STERN
DESCRIPTION:We are delighted to partner with Centrale Supélec and NYU Stern to host our: ENTREPRENEURIAL SHOWCASE HEC x CENTRALESUPELEC x NYU STERNThursday 5th October at 6:30pm\nHEC UK House, 43 Parker Street,...
URL:https://www.hecalumni.fr/en/group/united-kingdom-uk/109/calendar/entrepreneurial-showcase-hec-x-centralesupelec-x-nyu-stern/2023/10/05/10435
BEGIN:VALARM
TRIGGER:-P0DT1H0M0S
ACTION:DISPLAY
END:VALARM
END:VEVENT
END:VCALENDAR