BEGIN:VCALENDAR
VERSION:2.0
PRODID:-//hacksw/handcal//NONSGML v1.0//EN
BEGIN:VEVENT
DTSTART:20230710T163000Z
DTEND:20230710T200000Z
LOCATION:Association HEC  \n9 avenue Franklin Roosevelt \n75008 Paris
ORGANIZER;CN=Jean-Christophe Myon - Hub Entreprendre - Entrepreneurship Hub:MAILTO:jcmyon@orange.fr
SUMMARY:HUB ENTREPRENDRE SUMMER PARTY + REMISE DU MERCURE HEC FRANCE 2023
DESCRIPTION:
URL:https://www.hecalumni.fr/en/group/hub-entreprendre-entrepreneurship-hub/387/calendar/hub-entreprendre-summer-party-remise-du-mercure-hec-france-2023/2023/07/10/10303
BEGIN:VALARM
TRIGGER:-P0DT1H0M0S
ACTION:DISPLAY
END:VALARM
END:VEVENT
END:VCALENDAR