BEGIN:VCALENDAR
VERSION:2.0
PRODID:-//hacksw/handcal//NONSGML v1.0//EN
BEGIN:VEVENT
DTSTART:20230929T160000Z
DTEND:20230929T210000Z
LOCATION:SKY Bar Pernod Ricard \ncours paul Ricard \n75008 PARIS
ORGANIZER;CN=Serge Cometti - HEC Grande Ecole 1986:MAILTO:serge.cometti@yahoo.fr
SUMMARY:SAVE THE DATE - 40 Ans de l'Entrée sur le campus
DESCRIPTION:Cher(e)s Camarades,\nSAVE THE DATE - 29 SEPTEMBRE 2023 à partir de 18H\nAprès le report de notre anniversaire de promo de 35 ans en 2021 pour raison de crise sanitaire, nous ne voulions pas attendre...
URL:https://www.hecalumni.fr/en/group/hec-grande-ecole-1986/1069/calendar/save-the-date-40-ans-de-l-entree-sur-le-campus/2023/09/29/10158
BEGIN:VALARM
TRIGGER:-P0DT1H0M0S
ACTION:DISPLAY
END:VALARM
END:VEVENT
END:VCALENDAR