BEGIN:VCALENDAR
VERSION:2.0
PRODID:-//hacksw/handcal//NONSGML v1.0//EN
BEGIN:VEVENT
DTSTART:20230330T100000Z
DTEND:20230423T215500Z
LOCATION:https://mercurehec.agorize.com/en
ORGANIZER;CN=Jean-Christophe Myon - Mercure HEC Awards:MAILTO:jcmyon@orange.fr
SUMMARY:VOTE FOR THE BEST ENTREPRENEURS OF THE YEAR
DESCRIPTION:As you probably know, the HEC 2023 Mercures are awarded to entrepreneurs based in different regions of the world - 7 this year: France, Europe, North America, Middle East, Africa, East Asia, Central...
URL:https://www.hecalumni.fr/en/group/mercure-hec-awards/373/calendar/vote-for-the-best-entrepreneurs-of-the-year/2023/03/30/10120
BEGIN:VALARM
TRIGGER:-P0DT1H0M0S
ACTION:DISPLAY
END:VALARM
END:VEVENT
END:VCALENDAR