BEGIN:VCALENDAR
VERSION:2.0
PRODID:-//hacksw/handcal//NONSGML v1.0//EN
BEGIN:VEVENT
DTSTART:20230418T163000Z
DTEND:20230418T173000Z
LOCATION:
ORGANIZER;CN=Isabelle Dion - HUB SANTE - HEALTH HUB:MAILTO:isabellecdion@orange.fr
SUMMARY:CAREERS IN HEALTH | MBA and EXECUTIVE MBA STUDENTS and YOUNG ALUMNI
DESCRIPTION:\nThis eighth edition of this interactive career event, which is organized at the request of MBA Healthcare Club students, will take place on Zoom on April 18, 2023 at 18:30. It is open to...
URL:https://www.hecalumni.fr/en/group/hub-sante-health-hub/393/calendar/careers-in-health-mba-and-executive-mba-students-and-young-alumni/2023/04/18/10107
BEGIN:VALARM
TRIGGER:-P0DT1H0M0S
ACTION:DISPLAY
END:VALARM
END:VEVENT
END:VCALENDAR