BEGIN:VCALENDAR
VERSION:2.0
PRODID:-//hacksw/handcal//NONSGML v1.0//EN
BEGIN:VEVENT
DTSTART:20230413T163000Z
DTEND:20230413T183000Z
LOCATION:Grant Thornton House,  \n29 rue du Pont,  \n92 200 Neuilly-sur-Seine
ORGANIZER;CN=Marc-Antoine Selaquet - Achats Supply Chain - Purchasing and Supply Chain:MAILTO:marc-antoine.selaquet@ademas-consulting.com
SUMMARY:INVITATION CONFERENCE : Structurer, déployer et mesurer la valeur d’une démarche d’Achats Responsables
DESCRIPTION:\nLe sujet des Achats Responsables s’amplifie au regard des engagements éthiques et RSE des entreprises, des objectifs de décarbonation, et de la nécessaire mise en conformité et gestion des risques...
URL:https://www.hecalumni.fr/en/group/achats-supply-chain-purchasing-and-supply-chain/401/calendar/invitation-conference-structurer-deployer-et-mesurer-la-valeur-d-une-demarche-d-achats-responsables/2023/04/13/10021
BEGIN:VALARM
TRIGGER:-P0DT1H0M0S
ACTION:DISPLAY
END:VALARM
END:VEVENT
END:VCALENDAR