BEGIN:VCALENDAR
VERSION:2.0
PRODID:-//hacksw/handcal//NONSGML v1.0//EN
BEGIN:VEVENT
DTSTART:20230413T163000Z
DTEND:20230413T193000Z
LOCATION:Institut de France \n23 quai de Conti \n75006 Paris
ORGANIZER;CN=Claire Hazart - Culture:MAILTO:clairehazart@hotmail.com
SUMMARY:Les grands lieux (et les grands textes) du patrimoine français : une soirée exceptionnelle au Palais de l'Institut de France autour de la Comédie Humaine de Balzac
DESCRIPTION:Balzac & les manuscrits de la Comédie humaineDécouverte du Palais de l’Institut : trésors littéraires et enjeux du patrimoine écrit Dans le cadre du cycle "Les grands lieux du Patrimoine", le Club HEC...
URL:https://www.hecalumni.fr/en/group/culture/209/calendar/les-grands-lieux-et-les-grands-textes-du-patrimoine-francais-une-soiree-exceptionnelle-au-palais-de-l-institut-de-france-autour-de-la-comedie-humaine-de-balzac/2023/04/13/10013
BEGIN:VALARM
TRIGGER:-P0DT1H0M0S
ACTION:DISPLAY
END:VALARM
END:VEVENT
END:VCALENDAR